BEGIN:VCALENDAR
VERSION:2.0
PRODID:-//Sens bien être - ECPv6.15.18//NONSGML v1.0//EN
CALSCALE:GREGORIAN
METHOD:PUBLISH
X-ORIGINAL-URL:https://www.sensbienetre.fr
X-WR-CALDESC:Évènements pour Sens bien être
REFRESH-INTERVAL;VALUE=DURATION:PT1H
X-Robots-Tag:noindex
X-PUBLISHED-TTL:PT1H
BEGIN:VTIMEZONE
TZID:Europe/Paris
BEGIN:DAYLIGHT
TZOFFSETFROM:+0100
TZOFFSETTO:+0200
TZNAME:CEST
DTSTART:20240331T010000
END:DAYLIGHT
BEGIN:STANDARD
TZOFFSETFROM:+0200
TZOFFSETTO:+0100
TZNAME:CET
DTSTART:20241027T010000
END:STANDARD
BEGIN:DAYLIGHT
TZOFFSETFROM:+0100
TZOFFSETTO:+0200
TZNAME:CEST
DTSTART:20250330T010000
END:DAYLIGHT
BEGIN:STANDARD
TZOFFSETFROM:+0200
TZOFFSETTO:+0100
TZNAME:CET
DTSTART:20251026T010000
END:STANDARD
BEGIN:DAYLIGHT
TZOFFSETFROM:+0100
TZOFFSETTO:+0200
TZNAME:CEST
DTSTART:20260329T010000
END:DAYLIGHT
BEGIN:STANDARD
TZOFFSETFROM:+0200
TZOFFSETTO:+0100
TZNAME:CET
DTSTART:20261025T010000
END:STANDARD
END:VTIMEZONE
BEGIN:VEVENT
DTSTART;TZID=Europe/Paris:20250531T090000
DTEND;TZID=Europe/Paris:20250601T180000
DTSTAMP:20260422T201823
CREATED:20250207T101107Z
LAST-MODIFIED:20250407T094656Z
UID:1343-1748682000-1748800800@www.sensbienetre.fr
SUMMARY:Formation Reiki USUI Niveau 3
DESCRIPTION:
URL:https://www.sensbienetre.fr/events/formation-reiki-usui-niveau-3/
LOCATION:GARGENVILLE\, 17 Rue Danielle Casanova\, Gargenville\, FRANCE\, 78440\, France
CATEGORIES:Formation
ATTACH;FMTTYPE=image/webp:https://www.sensbienetre.fr/wp-content/uploads/2024/03/Soin-reiki.webp
ORGANIZER;CN="Sens bien %C3%AAtre":MAILTO:sensbienetre78@gmail.com
END:VEVENT
END:VCALENDAR