BEGIN:VCALENDAR
VERSION:2.0
PRODID:-//Sens bien être - ECPv6.15.18//NONSGML v1.0//EN
CALSCALE:GREGORIAN
METHOD:PUBLISH
X-WR-CALNAME:Sens bien être
X-ORIGINAL-URL:https://www.sensbienetre.fr
X-WR-CALDESC:Évènements pour Sens bien être
REFRESH-INTERVAL;VALUE=DURATION:PT1H
X-Robots-Tag:noindex
X-PUBLISHED-TTL:PT1H
BEGIN:VTIMEZONE
TZID:Europe/Paris
BEGIN:DAYLIGHT
TZOFFSETFROM:+0100
TZOFFSETTO:+0200
TZNAME:CEST
DTSTART:20240331T010000
END:DAYLIGHT
BEGIN:STANDARD
TZOFFSETFROM:+0200
TZOFFSETTO:+0100
TZNAME:CET
DTSTART:20241027T010000
END:STANDARD
BEGIN:DAYLIGHT
TZOFFSETFROM:+0100
TZOFFSETTO:+0200
TZNAME:CEST
DTSTART:20250330T010000
END:DAYLIGHT
BEGIN:STANDARD
TZOFFSETFROM:+0200
TZOFFSETTO:+0100
TZNAME:CET
DTSTART:20251026T010000
END:STANDARD
BEGIN:DAYLIGHT
TZOFFSETFROM:+0100
TZOFFSETTO:+0200
TZNAME:CEST
DTSTART:20260329T010000
END:DAYLIGHT
BEGIN:STANDARD
TZOFFSETFROM:+0200
TZOFFSETTO:+0100
TZNAME:CET
DTSTART:20261025T010000
END:STANDARD
END:VTIMEZONE
BEGIN:VEVENT
DTSTART;TZID=Europe/Paris:20250921T090000
DTEND;TZID=Europe/Paris:20250921T180000
DTSTAMP:20260422T124216
CREATED:20250528T132102Z
LAST-MODIFIED:20250912T151106Z
UID:1444-1758445200-1758477600@www.sensbienetre.fr
SUMMARY:Formation Reiki Usui 1er degrés 
DESCRIPTION:Formation Reiki Usui 1er degrés le dimanche 21 Septembre à Gargenville. \nSi vous êtes intéressé. Merci de nous joindre par mail à sensbienetre78@gmail.com ou par téléphone au 06 32 78 47 05 \n 
URL:https://www.sensbienetre.fr/events/formation-reiki-usui-1er-degre/
LOCATION:salle marius petipa gargenville 78\, 25 Rue des prés L'abbé\, Gargenville\, 78440\, France
CATEGORIES:Formation
ATTACH;FMTTYPE=image/jpeg:https://www.sensbienetre.fr/wp-content/uploads/2025/02/Magnetisme.jpg
ORGANIZER;CN="Sens bien %C3%AAtre":MAILTO:sensbienetre78@gmail.com
END:VEVENT
END:VCALENDAR